Package: survClust Version: 1.4.0 Command: /home/biocbuild/R/R/bin/R CMD INSTALL survClust StartedAt: 2025-11-10 21:26:21 -0000 (Mon, 10 Nov 2025) EndedAt: 2025-11-10 21:26:59 -0000 (Mon, 10 Nov 2025) EllapsedTime: 38.1 seconds RetCode: 0 Status: OK