Package: survClust Version: 1.4.0 Command: /Library/Frameworks/R.framework/Resources/bin/R CMD check --install=check:survClust.install-out.txt --library=/Library/Frameworks/R.framework/Resources/library --no-vignettes --timings survClust_1.4.0.tar.gz StartedAt: 2025-11-04 00:42:06 -0500 (Tue, 04 Nov 2025) EndedAt: 2025-11-04 00:45:16 -0500 (Tue, 04 Nov 2025) EllapsedTime: 190.1 seconds RetCode: 0 Status: WARNINGS CheckDir: survClust.Rcheck Warnings: 1