Package: survClust Version: 1.4.0 Command: rm -rf survClust.buildbin-libdir && mkdir survClust.buildbin-libdir && /Users/biocbuild/BBS/utils/build-universal.sh survClust_1.4.0.tar.gz /Library/Frameworks/R.framework/Resources/bin/R survClust.buildbin-libdir StartedAt: 2025-11-04 02:07:38 -0500 (Tue, 04 Nov 2025) EndedAt: 2025-11-04 02:08:18 -0500 (Tue, 04 Nov 2025) EllapsedTime: 39.4 seconds RetCode: 0 Status: OK PackageFile: survClust_1.4.0.tgz PackageFileSize: 768.5 KiB