Package: survClust Version: 1.4.0 Command: /Library/Frameworks/R.framework/Resources/bin/R CMD INSTALL survClust StartedAt: 2025-11-06 15:13:21 -0500 (Thu, 06 Nov 2025) EndedAt: 2025-11-06 15:13:32 -0500 (Thu, 06 Nov 2025) EllapsedTime: 10.9 seconds RetCode: 0 Status: OK