Package: survClust Version: 1.4.0 Command: /Library/Frameworks/R.framework/Resources/bin/R CMD build --keep-empty-dirs --no-resave-data survClust StartedAt: 2025-11-06 17:55:24 -0500 (Thu, 06 Nov 2025) EndedAt: 2025-11-06 17:56:09 -0500 (Thu, 06 Nov 2025) EllapsedTime: 44.5 seconds RetCode: 0 Status: OK PackageFile: survClust_1.4.0.tar.gz PackageFileSize: 726.9 KiB