Package: surfaltr Version: 1.16.0 Command: /home/biocbuild/R/R/bin/R CMD INSTALL surfaltr StartedAt: 2025-11-20 22:32:54 -0000 (Thu, 20 Nov 2025) EndedAt: 2025-11-20 22:33:18 -0000 (Thu, 20 Nov 2025) EllapsedTime: 23.8 seconds RetCode: 0 Status: OK