Package: supersigs Version: 1.16.0 Command: /home/biocbuild/bbs-3.21-bioc/R/bin/R CMD INSTALL supersigs StartedAt: 2025-10-15 15:24:17 -0400 (Wed, 15 Oct 2025) EndedAt: 2025-10-15 15:24:49 -0400 (Wed, 15 Oct 2025) EllapsedTime: 32.4 seconds RetCode: 0 Status: OK