Package: subSeq Version: 1.40.0 Command: /home/biocbuild/R/R/bin/R CMD build --keep-empty-dirs --no-resave-data subSeq StartedAt: 2025-11-21 06:20:12 -0000 (Fri, 21 Nov 2025) EndedAt: 2025-11-21 06:21:07 -0000 (Fri, 21 Nov 2025) EllapsedTime: 55.0 seconds RetCode: 0 Status: OK PackageFile: subSeq_1.40.0.tar.gz PackageFileSize: 2.909 MiB