Package: structToolbox Version: 1.22.0 Command: /home/biocbuild/R/R/bin/R CMD INSTALL structToolbox StartedAt: 2025-11-10 21:40:24 -0000 (Mon, 10 Nov 2025) EndedAt: 2025-11-10 21:41:13 -0000 (Mon, 10 Nov 2025) EllapsedTime: 49.3 seconds RetCode: 0 Status: OK