Package: structToolbox Version: 1.22.0 Command: /home/biocbuild/R/R/bin/R CMD check --install=check:structToolbox.install-out.txt --library=/home/biocbuild/R/R/site-library --no-vignettes --timings structToolbox_1.22.0.tar.gz StartedAt: 2025-11-11 15:34:11 -0000 (Tue, 11 Nov 2025) EndedAt: 2025-11-11 15:46:35 -0000 (Tue, 11 Nov 2025) EllapsedTime: 744.0 seconds RetCode: 0 Status: OK CheckDir: structToolbox.Rcheck Warnings: 0