Package: structToolbox Version: 1.22.0 Command: /home/biocbuild/R/R/bin/R CMD build --keep-empty-dirs --no-resave-data structToolbox StartedAt: 2025-11-11 05:39:48 -0000 (Tue, 11 Nov 2025) EndedAt: 2025-11-11 05:56:39 -0000 (Tue, 11 Nov 2025) EllapsedTime: 1011.6 seconds RetCode: 0 Status: OK PackageFile: structToolbox_1.22.0.tar.gz PackageFileSize: 3.795 MiB