Package: structToolbox Version: 1.22.0 Command: /home/biocbuild/bbs-3.22-bioc/R/bin/R CMD build --keep-empty-dirs --no-resave-data --md5 structToolbox StartedAt: 2025-11-10 20:33:00 -0500 (Mon, 10 Nov 2025) EndedAt: 2025-11-10 20:43:39 -0500 (Mon, 10 Nov 2025) EllapsedTime: 639.0 seconds RetCode: 0 Status: OK PackageFile: structToolbox_1.22.0.tar.gz PackageFileSize: 4.774 MiB