Package: structToolbox Version: 1.20.0 Command: /home/biocbuild/R/R/bin/R CMD INSTALL structToolbox StartedAt: 2025-10-13 20:47:09 -0000 (Mon, 13 Oct 2025) EndedAt: 2025-10-13 20:48:01 -0000 (Mon, 13 Oct 2025) EllapsedTime: 52.5 seconds RetCode: 0 Status: OK