Package: strandCheckR Version: 1.28.0 Command: /home/biocbuild/R/R/bin/R CMD INSTALL strandCheckR StartedAt: 2025-11-17 22:04:17 -0000 (Mon, 17 Nov 2025) EndedAt: 2025-11-17 22:05:07 -0000 (Mon, 17 Nov 2025) EllapsedTime: 50.4 seconds RetCode: 0 Status: OK