Package: strandCheckR Version: 1.28.0 Command: /home/biocbuild/R/R/bin/R CMD build --keep-empty-dirs --no-resave-data strandCheckR StartedAt: 2025-11-18 05:33:01 -0000 (Tue, 18 Nov 2025) EndedAt: 2025-11-18 05:34:22 -0000 (Tue, 18 Nov 2025) EllapsedTime: 81.0 seconds RetCode: 0 Status: OK PackageFile: strandCheckR_1.28.0.tar.gz PackageFileSize: 937.9 KiB