Package: strandCheckR Version: 1.28.0 Command: /home/biocbuild/bbs-3.22-bioc/R/bin/R CMD INSTALL strandCheckR StartedAt: 2025-11-17 18:10:13 -0500 (Mon, 17 Nov 2025) EndedAt: 2025-11-17 18:10:52 -0500 (Mon, 17 Nov 2025) EllapsedTime: 38.8 seconds RetCode: 0 Status: OK