Package: strandCheckR Version: 1.28.0 Command: /Library/Frameworks/R.framework/Resources/bin/R CMD INSTALL strandCheckR StartedAt: 2025-11-17 18:30:45 -0500 (Mon, 17 Nov 2025) EndedAt: 2025-11-17 18:31:01 -0500 (Mon, 17 Nov 2025) EllapsedTime: 15.2 seconds RetCode: 0 Status: OK