Package: strandCheckR Version: 1.28.0 Command: /Library/Frameworks/R.framework/Resources/bin/R CMD check --install=check:strandCheckR.install-out.txt --library=/Library/Frameworks/R.framework/Resources/library --no-vignettes --timings strandCheckR_1.28.0.tar.gz StartedAt: 2025-11-18 13:50:07 -0500 (Tue, 18 Nov 2025) EndedAt: 2025-11-18 13:52:32 -0500 (Tue, 18 Nov 2025) EllapsedTime: 145.2 seconds RetCode: 0 Status: OK CheckDir: strandCheckR.Rcheck Warnings: 0