Package: strandCheckR Version: 1.28.0 Command: /Library/Frameworks/R.framework/Resources/bin/R CMD build --keep-empty-dirs --no-resave-data strandCheckR StartedAt: 2025-11-18 01:34:19 -0500 (Tue, 18 Nov 2025) EndedAt: 2025-11-18 01:34:49 -0500 (Tue, 18 Nov 2025) EllapsedTime: 30.2 seconds RetCode: 0 Status: OK PackageFile: strandCheckR_1.28.0.tar.gz PackageFileSize: 1.226 MiB