Package: statTarget Version: 1.38.0 Command: /Library/Frameworks/R.framework/Resources/bin/R CMD INSTALL statTarget StartedAt: 2025-10-02 15:17:47 -0400 (Thu, 02 Oct 2025) EndedAt: 2025-10-02 15:18:29 -0400 (Thu, 02 Oct 2025) EllapsedTime: 41.9 seconds RetCode: 0 Status: OK