Package: statTarget Version: 1.38.0 Command: /Library/Frameworks/R.framework/Resources/bin/R CMD check --install=check:statTarget.install-out.txt --library=/Library/Frameworks/R.framework/Resources/library --no-vignettes --timings statTarget_1.38.0.tar.gz StartedAt: 2025-10-03 11:04:18 -0400 (Fri, 03 Oct 2025) EndedAt: 2025-10-03 11:05:52 -0400 (Fri, 03 Oct 2025) EllapsedTime: 93.5 seconds RetCode: 0 Status: OK CheckDir: statTarget.Rcheck Warnings: 0