Package: stJoincount Version: 1.10.0 Command: /Library/Frameworks/R.framework/Resources/bin/R CMD check --install=check:stJoincount.install-out.txt --library=/Library/Frameworks/R.framework/Resources/library --no-vignettes --timings stJoincount_1.10.0.tar.gz StartedAt: 2025-10-14 11:14:03 -0400 (Tue, 14 Oct 2025) EndedAt: 2025-10-14 11:28:41 -0400 (Tue, 14 Oct 2025) EllapsedTime: 878.3 seconds RetCode: 0 Status: OK CheckDir: stJoincount.Rcheck Warnings: 0