Package: stJoincount Version: 1.10.0 Command: /Library/Frameworks/R.framework/Resources/bin/R CMD check --install=check:stJoincount.install-out.txt --library=/Library/Frameworks/R.framework/Resources/library --no-vignettes --timings stJoincount_1.10.0.tar.gz StartedAt: 2025-04-21 23:55:27 -0400 (Mon, 21 Apr 2025) EndedAt: 2025-04-22 00:02:54 -0400 (Tue, 22 Apr 2025) EllapsedTime: 446.7 seconds RetCode: 0 Status: OK CheckDir: stJoincount.Rcheck Warnings: 0