Package: ssrch Version: 1.24.0 Command: E:\biocbuild\bbs-3.21-bioc\R\bin\R.exe CMD INSTALL ssrch StartedAt: 2025-08-14 15:27:04 -0400 (Thu, 14 Aug 2025) EndedAt: 2025-08-14 15:27:31 -0400 (Thu, 14 Aug 2025) EllapsedTime: 27.9 seconds RetCode: 0 Status: OK