Package: ssrch Version: 1.24.0 Command: /home/biocbuild/bbs-3.21-bioc/R/bin/R CMD INSTALL ssrch StartedAt: 2025-10-15 15:06:58 -0400 (Wed, 15 Oct 2025) EndedAt: 2025-10-15 15:07:16 -0400 (Wed, 15 Oct 2025) EllapsedTime: 17.5 seconds RetCode: 0 Status: OK