Package: ssrch Version: 1.24.0 Command: /home/biocbuild/bbs-3.21-bioc/R/bin/R CMD check --install=check:ssrch.install-out.txt --library=/home/biocbuild/bbs-3.21-bioc/R/site-library --timings ssrch_1.24.0.tar.gz StartedAt: 2025-10-16 04:07:31 -0400 (Thu, 16 Oct 2025) EndedAt: 2025-10-16 04:08:06 -0400 (Thu, 16 Oct 2025) EllapsedTime: 35.1 seconds RetCode: 0 Status: OK CheckDir: ssrch.Rcheck Warnings: 0