Package: ssrch Version: 1.24.0 Command: /Library/Frameworks/R.framework/Resources/bin/R CMD INSTALL ssrch StartedAt: 2025-04-21 15:04:05 -0400 (Mon, 21 Apr 2025) EndedAt: 2025-04-21 15:04:22 -0400 (Mon, 21 Apr 2025) EllapsedTime: 17.0 seconds RetCode: 0 Status: OK