Package: sscu Version: 2.38.0 Command: /Library/Frameworks/R.framework/Resources/bin/R CMD check --install=check:sscu.install-out.txt --library=/Library/Frameworks/R.framework/Resources/library --no-vignettes --timings sscu_2.38.0.tar.gz StartedAt: 2025-10-14 11:09:30 -0400 (Tue, 14 Oct 2025) EndedAt: 2025-10-14 11:12:59 -0400 (Tue, 14 Oct 2025) EllapsedTime: 208.8 seconds RetCode: 0 Status: WARNINGS CheckDir: sscu.Rcheck Warnings: 1