Package: sscu Version: 2.38.0 Command: rm -rf sscu.buildbin-libdir && mkdir sscu.buildbin-libdir && /Users/biocbuild/BBS/utils/build-universal.sh sscu_2.38.0.tar.gz /Library/Frameworks/R.framework/Resources/bin/R sscu.buildbin-libdir StartedAt: 2025-10-14 14:53:54 -0400 (Tue, 14 Oct 2025) EndedAt: 2025-10-14 14:54:22 -0400 (Tue, 14 Oct 2025) EllapsedTime: 27.3 seconds RetCode: 0 Status: OK PackageFile: sscu_2.38.0.tgz PackageFileSize: 1.372 MiB