Package: sscu Version: 2.38.0 Command: /Library/Frameworks/R.framework/Resources/bin/R CMD INSTALL sscu StartedAt: 2025-10-13 15:41:53 -0400 (Mon, 13 Oct 2025) EndedAt: 2025-10-13 15:42:04 -0400 (Mon, 13 Oct 2025) EllapsedTime: 11.7 seconds RetCode: 0 Status: OK