Package: sscu Version: 2.38.0 Command: /Library/Frameworks/R.framework/Resources/bin/R CMD build --keep-empty-dirs --no-resave-data sscu StartedAt: 2025-10-14 10:26:04 -0400 (Tue, 14 Oct 2025) EndedAt: 2025-10-14 10:26:27 -0400 (Tue, 14 Oct 2025) EllapsedTime: 22.6 seconds RetCode: 0 Status: OK PackageFile: sscu_2.38.0.tar.gz PackageFileSize: 1.287 MiB