Package: srnadiff Version: 1.30.0 Command: /home/biocbuild/R/R/bin/R CMD check --install=check:srnadiff.install-out.txt --library=/home/biocbuild/R/R/site-library --no-vignettes --timings srnadiff_1.30.0.tar.gz StartedAt: 2025-11-14 15:20:51 -0000 (Fri, 14 Nov 2025) EndedAt: 2025-11-14 15:33:36 -0000 (Fri, 14 Nov 2025) EllapsedTime: 765.5 seconds RetCode: 0 Status: WARNINGS CheckDir: srnadiff.Rcheck Warnings: 1