Package: srnadiff Version: 1.29.1 Command: F:\biocbuild\bbs-3.22-bioc\R\bin\R.exe CMD INSTALL srnadiff StartedAt: 2025-08-14 16:53:51 -0400 (Thu, 14 Aug 2025) EndedAt: 2025-08-14 16:55:36 -0400 (Thu, 14 Aug 2025) EllapsedTime: 105.0 seconds RetCode: 0 Status: OK