Package: srnadiff Version: 1.29.1 Command: chmod a+r srnadiff -R && F:\biocbuild\bbs-3.22-bioc\R\bin\R.exe CMD build --keep-empty-dirs --no-resave-data srnadiff StartedAt: 2025-08-14 23:35:18 -0400 (Thu, 14 Aug 2025) EndedAt: 2025-08-14 23:39:46 -0400 (Thu, 14 Aug 2025) EllapsedTime: 267.6 seconds RetCode: 0 Status: OK PackageFile: srnadiff_1.29.1.tar.gz PackageFileSize: 2.418 MiB