Package: spoon Version: 1.6.0 Command: /home/biocbuild/bbs-3.22-bioc/R/bin/R CMD build --keep-empty-dirs --no-resave-data --md5 spoon StartedAt: 2025-11-06 20:19:03 -0500 (Thu, 06 Nov 2025) EndedAt: 2025-11-06 20:20:46 -0500 (Thu, 06 Nov 2025) EllapsedTime: 103.1 seconds RetCode: 0 Status: OK PackageFile: spoon_1.6.0.tar.gz PackageFileSize: 461.5 KiB