Package: splots Version: 1.75.0 Command: /home/biocbuild/R/R/bin/R CMD INSTALL splots StartedAt: 2025-10-23 20:19:56 -0000 (Thu, 23 Oct 2025) EndedAt: 2025-10-23 20:20:41 -0000 (Thu, 23 Oct 2025) EllapsedTime: 44.6 seconds RetCode: 0 Status: OK