Package: splots Version: 1.75.0 Command: /home/biocbuild/R/R/bin/R CMD check --install=check:splots.install-out.txt --library=/home/biocbuild/R/R/site-library --no-vignettes --timings splots_1.75.0.tar.gz StartedAt: 2025-10-17 14:03:43 -0000 (Fri, 17 Oct 2025) EndedAt: 2025-10-17 14:04:19 -0000 (Fri, 17 Oct 2025) EllapsedTime: 36.0 seconds RetCode: 0 Status: OK CheckDir: splots.Rcheck Warnings: 0