Package: splots Version: 1.75.0 Command: /home/biocbuild/R/R/bin/R CMD build --keep-empty-dirs --no-resave-data splots StartedAt: 2025-10-21 03:27:06 -0000 (Tue, 21 Oct 2025) EndedAt: 2025-10-21 03:27:57 -0000 (Tue, 21 Oct 2025) EllapsedTime: 51.0 seconds RetCode: 0 Status: OK PackageFile: splots_1.75.0.tar.gz PackageFileSize: 441.3 KiB