Package: splots Version: 1.76.0 Command: /home/biocbuild/bbs-3.22-bioc/R/bin/R CMD INSTALL splots StartedAt: 2025-11-06 15:03:54 -0500 (Thu, 06 Nov 2025) EndedAt: 2025-11-06 15:04:15 -0500 (Thu, 06 Nov 2025) EllapsedTime: 21.5 seconds RetCode: 0 Status: OK