Package: splots Version: 1.76.0 Command: /Library/Frameworks/R.framework/Resources/bin/R CMD INSTALL splots StartedAt: 2025-11-03 15:02:34 -0500 (Mon, 03 Nov 2025) EndedAt: 2025-11-03 15:02:42 -0500 (Mon, 03 Nov 2025) EllapsedTime: 8.6 seconds RetCode: 0 Status: OK