Package: splots Version: 1.76.0 Command: /Library/Frameworks/R.framework/Resources/bin/R CMD check --install=check:splots.install-out.txt --library=/Library/Frameworks/R.framework/Resources/library --no-vignettes --timings splots_1.76.0.tar.gz StartedAt: 2025-11-04 22:19:42 -0500 (Tue, 04 Nov 2025) EndedAt: 2025-11-04 22:19:52 -0500 (Tue, 04 Nov 2025) EllapsedTime: 10.1 seconds RetCode: 0 Status: OK CheckDir: splots.Rcheck Warnings: 0