Package: splots Version: 1.76.0 Command: /Library/Frameworks/R.framework/Resources/bin/R CMD build --keep-empty-dirs --no-resave-data splots StartedAt: 2025-11-02 17:52:19 -0500 (Sun, 02 Nov 2025) EndedAt: 2025-11-02 17:52:44 -0500 (Sun, 02 Nov 2025) EllapsedTime: 25.2 seconds RetCode: 0 Status: OK PackageFile: splots_1.76.0.tar.gz PackageFileSize: 706.2 KiB