Package: splineTimeR Version: 1.36.0 Command: /home/biocbuild/bbs-3.21-bioc/R/bin/R CMD build --keep-empty-dirs --no-resave-data splineTimeR StartedAt: 2025-10-15 20:07:08 -0400 (Wed, 15 Oct 2025) EndedAt: 2025-10-15 20:07:48 -0400 (Wed, 15 Oct 2025) EllapsedTime: 40.1 seconds RetCode: 0 Status: OK PackageFile: splineTimeR_1.36.0.tar.gz PackageFileSize: 1.228 MiB