Package: splineTimeR Version: 1.36.0 Command: /Library/Frameworks/R.framework/Resources/bin/R CMD INSTALL splineTimeR StartedAt: 2025-04-21 15:23:31 -0400 (Mon, 21 Apr 2025) EndedAt: 2025-04-21 15:23:54 -0400 (Mon, 21 Apr 2025) EllapsedTime: 23.3 seconds RetCode: 0 Status: OK