Package: splineTimeR Version: 1.36.0 Command: rm -rf splineTimeR.buildbin-libdir && mkdir splineTimeR.buildbin-libdir && /Users/biocbuild/BBS/utils/build-universal.sh splineTimeR_1.36.0.tar.gz /Library/Frameworks/R.framework/Resources/bin/R splineTimeR.buildbin-libdir StartedAt: 2025-04-22 01:11:27 -0400 (Tue, 22 Apr 2025) EndedAt: 2025-04-22 01:11:50 -0400 (Tue, 22 Apr 2025) EllapsedTime: 23.2 seconds RetCode: 0 Status: OK PackageFile: splineTimeR_1.36.0.tgz PackageFileSize: 1.264 MiB