Package: splatter Version: 1.34.0 Command: /home/biocbuild/R/R/bin/R CMD check --install=check:splatter.install-out.txt --library=/home/biocbuild/R/R/site-library --no-vignettes --timings splatter_1.34.0.tar.gz StartedAt: 2025-11-18 15:32:11 -0000 (Tue, 18 Nov 2025) EndedAt: 2025-11-18 15:42:13 -0000 (Tue, 18 Nov 2025) EllapsedTime: 601.6 seconds RetCode: 0 Status: OK CheckDir: splatter.Rcheck Warnings: 0