Package: splatter Version: 1.34.0 Command: /home/biocbuild/R/R/bin/R CMD build --keep-empty-dirs --no-resave-data splatter StartedAt: 2025-11-21 06:10:56 -0000 (Fri, 21 Nov 2025) EndedAt: 2025-11-21 06:15:52 -0000 (Fri, 21 Nov 2025) EllapsedTime: 296.1 seconds RetCode: 0 Status: OK PackageFile: splatter_1.34.0.tar.gz PackageFileSize: 4.389 MiB