Package: splatter Version: 1.32.0 Command: /home/biocbuild/R/R/bin/R CMD check --install=check:splatter.install-out.txt --library=/home/biocbuild/R/R/site-library --no-vignettes --timings splatter_1.32.0.tar.gz StartedAt: 2025-09-30 15:05:27 -0000 (Tue, 30 Sep 2025) EndedAt: 2025-09-30 15:15:58 -0000 (Tue, 30 Sep 2025) EllapsedTime: 630.6 seconds RetCode: 0 Status: OK CheckDir: splatter.Rcheck Warnings: 0