Package: splatter Version: 1.32.0 Command: /home/biocbuild/R/R/bin/R CMD build --keep-empty-dirs --no-resave-data splatter StartedAt: 2025-09-30 05:34:47 -0000 (Tue, 30 Sep 2025) EndedAt: 2025-09-30 05:39:17 -0000 (Tue, 30 Sep 2025) EllapsedTime: 270.1 seconds RetCode: 0 Status: OK PackageFile: splatter_1.32.0.tar.gz PackageFileSize: 6.73 MiB