Package: splatter Version: 1.34.0 Command: rm -rf splatter.buildbin-libdir && mkdir splatter.buildbin-libdir && /Users/biocbuild/BBS/utils/build-universal.sh splatter_1.34.0.tar.gz /Library/Frameworks/R.framework/Resources/bin/R splatter.buildbin-libdir StartedAt: 2025-10-31 23:25:07 -0400 (Fri, 31 Oct 2025) EndedAt: 2025-10-31 23:25:21 -0400 (Fri, 31 Oct 2025) EllapsedTime: 13.2 seconds RetCode: 0 Status: OK PackageFile: splatter_1.34.0.tgz PackageFileSize: 6.832 MiB